BEGIN:VCALENDAR
PRODID:-//eluceo/ical//2.0/EN
VERSION:2.0
CALSCALE:GREGORIAN
BEGIN:VEVENT
UID:fc34549e53b8a1521cc5a0f74f53cdc1
DTSTAMP:20260426T000752Z
SUMMARY:Bnei Akiva of Toronto showing The Prime Ministers Part Two 
DESCRIPTION:UJA Federation of Greater Toronto\nJewish Toronto Calendar\nhtt
 ps://jewishtoronto.com/calendar/bnei-akiva-of-toronto-showing-the-prime-mi
 nisters-part-two\n\nBnei Akiva of Toronto showing The Prime Ministers Part
  Two \n\nVenue:            Empress Walk\n\nDate:       
         Wednesday\, January 20\, 2016\n\nTime:              
  7:30 pm\n\nEmail:              events@bneiakiva.ca\n\nTel:     
              905-370-0448\n\n 
DTSTART;TZID=America/Toronto:20160120T193000
DTEND;TZID=America/Toronto:20160120T213000
END:VEVENT
END:VCALENDAR
