BEGIN:VCALENDAR
PRODID:-//eluceo/ical//2.0/EN
VERSION:2.0
CALSCALE:GREGORIAN
BEGIN:VEVENT
UID:09ae8f041f12e60fe1a6d8a557e9efc1
DTSTAMP:20260421T153145Z
SUMMARY:Bnei Akiva Movie Screening
DESCRIPTION:UJA Federation of Greater Toronto\nJewish Toronto Calendar\nhtt
 ps://jewishtoronto.com/calendar/bnei-akiva-movie-screening-1559220945\n\nT
 his is a Bnei Akiva Movie Screening fundraiser.
DTSTART;TZID=America/Toronto:20190923T190000
DTEND;TZID=America/Toronto:20190923T213000
END:VEVENT
END:VCALENDAR
