BEGIN:VCALENDAR
PRODID:-//eluceo/ical//2.0/EN
VERSION:2.0
CALSCALE:GREGORIAN
BEGIN:VEVENT
UID:2f30ae1af25dcc52ca6bd2a09be5b352
DTSTAMP:20260420T091920Z
SUMMARY:B'Nai Tzedek Social Action Day Event
DESCRIPTION:UJA Federation of Greater Toronto\nJewish Toronto Calendar\nhtt
 ps://jewishtoronto.com/calendar/bnai-tzedek-social-action-day-event\n\nDet
 ails to follow
DTSTART;TZID=America/Toronto:20141123T110000
DTEND;TZID=America/Toronto:20141123T170000
END:VEVENT
END:VCALENDAR
