BEGIN:VCALENDAR
PRODID:-//eluceo/ical//2.0/EN
VERSION:2.0
CALSCALE:GREGORIAN
BEGIN:VEVENT
UID:ad0a863559a3ec3e65c11c1eeb2581b8
DTSTAMP:20260423T201006Z
SUMMARY:B'nai Brith Signature Event
DESCRIPTION:UJA Federation of Greater Toronto\nJewish Toronto Calendar\nhtt
 ps://jewishtoronto.com/calendar/bnai-brith-signature-event-1533764009\n\nB
 'nai Brith Signature Event
DTSTART;TZID=America/Toronto:20181121T180000
DTEND;TZID=America/Toronto:20181121T230000
END:VEVENT
END:VCALENDAR
