BEGIN:VCALENDAR
PRODID:-//eluceo/ical//2.0/EN
VERSION:2.0
CALSCALE:GREGORIAN
BEGIN:VEVENT
UID:6c97425a7171c2ffac25b2cc78f919cf
DTSTAMP:20260421T124553Z
SUMMARY:B'nai Brith of Canada Gala Dinner
DESCRIPTION:UJA Federation of Greater Toronto\nJewish Toronto Calendar\nhtt
 ps://jewishtoronto.com/calendar/bnai-brith-of-canada-gala-dinner-167605441
 0\n\nToronto Gala event
DTSTART;TZID=America/Toronto:20231026T170000
DTEND;TZID=America/Toronto:20231026T210000
END:VEVENT
END:VCALENDAR
