BEGIN:VCALENDAR
PRODID:-//eluceo/ical//2.0/EN
VERSION:2.0
CALSCALE:GREGORIAN
BEGIN:VEVENT
UID:53f2560ebd5bd4692199a27eeaa2567d
DTSTAMP:20260422T111229Z
SUMMARY:B'nai Brith of Canada Foundation Gala
DESCRIPTION:UJA Federation of Greater Toronto\nJewish Toronto Calendar\nhtt
 ps://jewishtoronto.com/calendar/bnai-brith-of-canada-foundation-gala-17726
 53320\n\nFundraising gala.
DTSTART;TZID=America/Toronto:20261021T170000
DTEND;TZID=America/Toronto:20261021T210000
END:VEVENT
END:VCALENDAR
