BEGIN:VCALENDAR
PRODID:-//eluceo/ical//2.0/EN
VERSION:2.0
CALSCALE:GREGORIAN
BEGIN:VEVENT
UID:6f75a8a2ca64a1e50571a4bb112423c9
DTSTAMP:20260424T060001Z
SUMMARY:B'nai Brith Golf Tournament
DESCRIPTION:UJA Federation of Greater Toronto\nJewish Toronto Calendar\nhtt
 ps://jewishtoronto.com/calendar/bnai-brith-golf-tournament-1767815243\n\nB
 'nai Brith's annual Chip Away at Hate golf tournament
DTSTART;TZID=America/Toronto:20260720T090000
DTEND;TZID=America/Toronto:20260720T210000
END:VEVENT
END:VCALENDAR
