BEGIN:VCALENDAR
PRODID:-//eluceo/ical//2.0/EN
VERSION:2.0
CALSCALE:GREGORIAN
BEGIN:VEVENT
UID:ce88a06cf01fd998fcf88c1c8e12eb86
DTSTAMP:20260423T143757Z
SUMMARY:B'nai Brith Golf Tournament
DESCRIPTION:UJA Federation of Greater Toronto\nJewish Toronto Calendar\nhtt
 ps://jewishtoronto.com/calendar/bnai-brith-golf-tournament-1690470315\n\nB
 'nai Brith Golf tournament
DTSTART;TZID=America/Toronto:20240722T110000
DTEND;TZID=America/Toronto:20240722T200000
END:VEVENT
END:VCALENDAR
