BEGIN:VCALENDAR
PRODID:-//eluceo/ical//2.0/EN
VERSION:2.0
CALSCALE:GREGORIAN
BEGIN:VEVENT
UID:8c5c054672a2685ab7a6725d4a4a2860
DTSTAMP:20260422T132828Z
SUMMARY:B'nai Brith Golf Tournament
DESCRIPTION:UJA Federation of Greater Toronto\nJewish Toronto Calendar\nhtt
 ps://jewishtoronto.com/calendar/bnai-brith-golf-tournament-1587574437\n\nA
 nnual Golf Tournament
DTSTART;TZID=America/Toronto:20200817T103000
DTEND;TZID=America/Toronto:20200817T123000
END:VEVENT
END:VCALENDAR
