BEGIN:VCALENDAR
PRODID:-//eluceo/ical//2.0/EN
VERSION:2.0
CALSCALE:GREGORIAN
BEGIN:VEVENT
UID:80e742ce10c847004ab1b71557388d63
DTSTAMP:20260424T070758Z
SUMMARY:B'nai Brith Canada National AMIA event
DESCRIPTION:UJA Federation of Greater Toronto\nJewish Toronto Calendar\nhtt
 ps://jewishtoronto.com/calendar/bnai-brith-canada-national-amia-event-1622
 057622\n\nNational AMIA Commemoration event
DTSTART;TZID=America/Toronto:20210719T160000
DTEND;TZID=America/Toronto:20210719T213000
END:VEVENT
END:VCALENDAR
