BEGIN:VCALENDAR
PRODID:-//eluceo/ical//2.0/EN
VERSION:2.0
CALSCALE:GREGORIAN
BEGIN:VEVENT
UID:21ba6e326835319fb1a30ff3d5013346
DTSTAMP:20260421T140043Z
SUMMARY:B'nai Brith Canada Golf Tournament
DESCRIPTION:UJA Federation of Greater Toronto\nJewish Toronto Calendar\nhtt
 ps://jewishtoronto.com/calendar/bnai-brith-canada-golf-tournament-15333185
 24\n\nB'nai Brith Canada's 4th Annual Golf Tournament
DTSTART;TZID=America/Toronto:20190612T110000
DTEND;TZID=America/Toronto:20190612T200000
END:VEVENT
END:VCALENDAR
