BEGIN:VCALENDAR
PRODID:-//eluceo/ical//2.0/EN
VERSION:2.0
CALSCALE:GREGORIAN
BEGIN:VEVENT
UID:d7404398ce8d4d4ebebdfc24fb002e40
DTSTAMP:20260420T093007Z
SUMMARY:B'nai Brith Award of Merit Gala
DESCRIPTION:UJA Federation of Greater Toronto\nJewish Toronto Calendar\nhtt
 ps://jewishtoronto.com/calendar/bnai-brith-award-of-merit-gala-1636559549\
 n\nB'nai Brith Award of Merit Gala
DTSTART;TZID=America/Toronto:20221110T170000
DTEND;TZID=America/Toronto:20221110T220000
END:VEVENT
END:VCALENDAR
