BEGIN:VCALENDAR
PRODID:-//eluceo/ical//2.0/EN
VERSION:2.0
CALSCALE:GREGORIAN
BEGIN:VEVENT
UID:6a7af58832b924487be8cf2c34d8fab9
DTSTAMP:20260420T011244Z
SUMMARY:B'nai Brith Award of Merit Gala
DESCRIPTION:UJA Federation of Greater Toronto\nJewish Toronto Calendar\nhtt
 ps://jewishtoronto.com/calendar/bnai-brith-award-of-merit-gala-1587574247\
 n\nAward of merit gala
DTSTART;TZID=America/Toronto:20210519T180000
DTEND;TZID=America/Toronto:20210519T230000
END:VEVENT
END:VCALENDAR
