BEGIN:VCALENDAR
PRODID:-//eluceo/ical//2.0/EN
VERSION:2.0
CALSCALE:GREGORIAN
BEGIN:VEVENT
UID:a45dca9ab3c64a83a001150130caab1f
DTSTAMP:20260422T113159Z
SUMMARY:B'nai Brith Award of Merit Gala
DESCRIPTION:UJA Federation of Greater Toronto\nJewish Toronto Calendar\nhtt
 ps://jewishtoronto.com/calendar/bnai-brith-award-of-merit-gala-1579636243\
 n\nB'nai Brith Award of Merit Gala
DTSTART;TZID=America/Toronto:20201129T180000
DTEND;TZID=America/Toronto:20201129T230000
END:VEVENT
END:VCALENDAR
