BEGIN:VCALENDAR
PRODID:-//eluceo/ical//2.0/EN
VERSION:2.0
CALSCALE:GREGORIAN
BEGIN:VEVENT
UID:ea2909519ee240de2d97741e03eaa6e5
DTSTAMP:20260420T141738Z
SUMMARY:Blood Donation Event
DESCRIPTION:UJA Federation of Greater Toronto\nJewish Toronto Calendar\nhtt
 ps://jewishtoronto.com/calendar/blood-donation-event-1564493823\n\nYou cou
 ld help a child being treated for cancer\, a father about to have heart su
 rgery or a mother who has just given birth. Summer donors are needed to he
 lp hospital patients!\nPlease schedule your appointment to donate blood at
  blood.ca or call 1-888-2-DONATE.
DTSTART;TZID=America/Toronto:20190805T150000
DTEND;TZID=America/Toronto:20190805T190000
END:VEVENT
END:VCALENDAR
