BEGIN:VCALENDAR
PRODID:-//eluceo/ical//2.0/EN
VERSION:2.0
CALSCALE:GREGORIAN
BEGIN:VEVENT
UID:304fe8e2b99acc1e8667394ea99f5cb4
DTSTAMP:20260424T171820Z
SUMMARY:Birthright Israel Foundation Young Leadership Event
DESCRIPTION:UJA Federation of Greater Toronto\nJewish Toronto Calendar\nhtt
 ps://jewishtoronto.com/calendar/birthright-israel-foundation-young-leaders
 hip-event-1574779751\n\nBirthright Israel Foundation of Canada Young Leade
 rship Event
DTSTART;TZID=America/Toronto:20200121T173000
DTEND;TZID=America/Toronto:20200121T193000
END:VEVENT
END:VCALENDAR
