BEGIN:VCALENDAR
PRODID:-//eluceo/ical//2.0/EN
VERSION:2.0
CALSCALE:GREGORIAN
BEGIN:VEVENT
UID:fa6d0f29a33e66f89a099e54fdd1cfaf
DTSTAMP:20260422T035136Z
SUMMARY:Birthright Israel Foundation of Canada Private Event
DESCRIPTION:UJA Federation of Greater Toronto\nJewish Toronto Calendar\nhtt
 ps://jewishtoronto.com/calendar/birthright-israel-foundation-of-canada-pri
 vate-event-1776696924\n\nBirthright Israel Foundation of Canada private ev
 ent and by invitation only.
DTSTART;TZID=America/Toronto:20260624T200000
DTEND;TZID=America/Toronto:20260624T220000
END:VEVENT
END:VCALENDAR
