BEGIN:VCALENDAR
PRODID:-//eluceo/ical//2.0/EN
VERSION:2.0
CALSCALE:GREGORIAN
BEGIN:VEVENT
UID:5513022d77b0821eaa34ec467b74356c
DTSTAMP:20260419T140006Z
SUMMARY:Birthright Israel Event
DESCRIPTION:UJA Federation of Greater Toronto\nJewish Toronto Calendar\nhtt
 ps://jewishtoronto.com/calendar/birthright-israel-event-1689610265\n\nBirt
 hright Israel Foundation of Canada Event
DTSTART;TZID=America/Toronto:20230911T170000
DTEND;TZID=America/Toronto:20230911T190000
END:VEVENT
END:VCALENDAR
