BEGIN:VCALENDAR
PRODID:-//eluceo/ical//2.0/EN
VERSION:2.0
CALSCALE:GREGORIAN
BEGIN:VEVENT
UID:02645096a73e4b643e89a295c30c2c67
DTSTAMP:20260425T110147Z
SUMMARY:Birthright Israel Event
DESCRIPTION:UJA Federation of Greater Toronto\nJewish Toronto Calendar\nhtt
 ps://jewishtoronto.com/calendar/birthright-israel-event\n\nThis is a priva
 te event. 
DTSTART;TZID=America/Toronto:20230607T000000
DTEND;TZID=America/Toronto:20230607T235959
END:VEVENT
END:VCALENDAR
