BEGIN:VCALENDAR
PRODID:-//eluceo/ical//2.0/EN
VERSION:2.0
CALSCALE:GREGORIAN
BEGIN:VEVENT
UID:d39fb1a2fd09c624fa6687083e986d41
DTSTAMP:20260422T145109Z
SUMMARY:Birthright Israel Cocktail Reception
DESCRIPTION:UJA Federation of Greater Toronto\nJewish Toronto Calendar\nhtt
 ps://jewishtoronto.com/calendar/birthright-israel-cocktail-reception-17120
 79164\n\nPrivate event please contact bonnie.lipman@birthrightisrael.com f
 or more information
DTSTART;TZID=America/Toronto:20240603T170000
DTEND;TZID=America/Toronto:20240603T190000
END:VEVENT
END:VCALENDAR
