BEGIN:VCALENDAR
PRODID:-//eluceo/ical//2.0/EN
VERSION:2.0
CALSCALE:GREGORIAN
BEGIN:VEVENT
UID:ad40271b6792c99b215daec5b4a71c20
DTSTAMP:20260423T145801Z
SUMMARY:Bikur Cholim Volunteer Event
DESCRIPTION:UJA Federation of Greater Toronto\nJewish Toronto Calendar\nhtt
 ps://jewishtoronto.com/calendar/bikur-cholim-volunteer-event-1538681897\n\
 nBikur Cholim Volunteer Event
DTSTART;TZID=America/Toronto:20181112T193000
DTEND;TZID=America/Toronto:20181112T213000
END:VEVENT
END:VCALENDAR
