BEGIN:VCALENDAR
PRODID:-//eluceo/ical//2.0/EN
VERSION:2.0
CALSCALE:GREGORIAN
BEGIN:VEVENT
UID:8d5c5a4ef4b3951417e8131c711bb908
DTSTAMP:20260425T185410Z
SUMMARY:Bikur Cholim Luncheon
DESCRIPTION:UJA Federation of Greater Toronto\nJewish Toronto Calendar\nhtt
 ps://jewishtoronto.com/calendar/bikur-cholim-luncheon-1484664884\n\nAnnual
  Luncheon
DTSTART;TZID=America/Toronto:20170607T110000
DTEND;TZID=America/Toronto:20170607T140000
END:VEVENT
END:VCALENDAR
