BEGIN:VCALENDAR
PRODID:-//eluceo/ical//2.0/EN
VERSION:2.0
CALSCALE:GREGORIAN
BEGIN:VEVENT
UID:e9e814330d8a8db7582bd033116910e2
DTSTAMP:20260425T144217Z
SUMMARY:Bikur Cholim Eldercare Conference
DESCRIPTION:UJA Federation of Greater Toronto\nJewish Toronto Calendar\nhtt
 ps://jewishtoronto.com/calendar/bikur-cholim-eldercare-conference-14846650
 86\n\nEldercare Conference
DTSTART;TZID=America/Toronto:20170507T100000
DTEND;TZID=America/Toronto:20170507T140000
END:VEVENT
END:VCALENDAR
