BEGIN:VCALENDAR
PRODID:-//eluceo/ical//2.0/EN
VERSION:2.0
CALSCALE:GREGORIAN
BEGIN:VEVENT
UID:918d032c8c17dccd4c7a5828ce3d117c
DTSTAMP:20260422T113006Z
SUMMARY:Bike for Brain Health
DESCRIPTION:UJA Federation of Greater Toronto\nJewish Toronto Calendar\nhtt
 ps://jewishtoronto.com/calendar/bike-for-brain-health-1663613621\n\nJoin B
 aycrest in defeating dementia by biking the DVP in our second annual Bike 
 for Brain Health!
DTSTART;TZID=America/Toronto:20230604T053000
DTEND;TZID=America/Toronto:20230604T150000
END:VEVENT
END:VCALENDAR
