BEGIN:VCALENDAR
PRODID:-//eluceo/ical//2.0/EN
VERSION:2.0
CALSCALE:GREGORIAN
BEGIN:VEVENT
UID:4fe560ed4234dfd27df10b36e70304bc
DTSTAMP:20260422T221658Z
SUMMARY:UJA Federation | Bible Contest (Regionals)
DESCRIPTION:UJA Federation of Greater Toronto\nJewish Toronto Calendar\nhtt
 ps://jewishtoronto.com/calendar/bible-contest-regionals\n\nThe study of th
 e Tanach increases our student’s connection with the Jewish people\, the
 ir love of the Land of Israel\, their love of text\, and their love of Tor
 ah. What better way to encourage students to study and learn the Tanach th
 an by involving them in the Bible Contest.\n\nAnnual event for students to
  test their knowledge of the bible.
DTSTART;TZID=America/Toronto:20220302T180000
DTEND;TZID=America/Toronto:20220302T200000
END:VEVENT
END:VCALENDAR
