BEGIN:VCALENDAR
PRODID:-//eluceo/ical//2.0/EN
VERSION:2.0
CALSCALE:GREGORIAN
BEGIN:VEVENT
UID:53be35ddd08ccb6cd0a860dcac1a55b6
DTSTAMP:20260422T023057Z
SUMMARY:Bialik Hebrew Day School's Community Chanukah Celebration
DESCRIPTION:UJA Federation of Greater Toronto\nJewish Toronto Calendar\nhtt
 ps://jewishtoronto.com/calendar/bialik-hebrew-day-schools-community-chanuk
 ah-celebration-1633373849\n\nAn online community celebration
DTSTART;TZID=America/Toronto:20211202T190000
DTEND;TZID=America/Toronto:20211202T200000
END:VEVENT
END:VCALENDAR
