BEGIN:VCALENDAR
PRODID:-//eluceo/ical//2.0/EN
VERSION:2.0
CALSCALE:GREGORIAN
BEGIN:VEVENT
UID:c07dd140771189dd9547cae0b330c7a5
DTSTAMP:20260419T131823Z
SUMMARY:Bialik Hebrew Day School Grandparent and Special Friends Day
DESCRIPTION:UJA Federation of Greater Toronto\nJewish Toronto Calendar\nhtt
 ps://jewishtoronto.com/calendar/bialik-hebrew-day-school-grandparent-and-s
 pecial-friends-day-1526062963\n\nAll Viewmount Grandparents and Special Fr
 iends are invited for a morning or afternoon of learning\, food and fun. D
 etails to follow.
DTSTART;TZID=America/Toronto:20190517T080000
DTEND;TZID=America/Toronto:20190517T160000
END:VEVENT
END:VCALENDAR
