BEGIN:VCALENDAR
PRODID:-//eluceo/ical//2.0/EN
VERSION:2.0
CALSCALE:GREGORIAN
BEGIN:VEVENT
UID:918b741d6eb6ccf91ddf80827440b338
DTSTAMP:20260421T123738Z
SUMMARY:BGS Cocktail Reception featuring Tony Cohen
DESCRIPTION:UJA Federation of Greater Toronto\nJewish Toronto Calendar\nhtt
 ps://jewishtoronto.com/calendar/bgs-cocktail-reception-featuring-tony-cohe
 n\n\nBGS Cocktail Reception featuring Tony Cohen
DTSTART;TZID=America/Toronto:20150623T190000
DTEND;TZID=America/Toronto:20150623T210000
END:VEVENT
END:VCALENDAR
