BEGIN:VCALENDAR
PRODID:-//eluceo/ical//2.0/EN
VERSION:2.0
CALSCALE:GREGORIAN
BEGIN:VEVENT
UID:a56e2038e3e624286f91ae3cf8ee4208
DTSTAMP:20260420T004548Z
SUMMARY:"Beyond Paranoia" Movie Screening
DESCRIPTION:UJA Federation of Greater Toronto\nJewish Toronto Calendar\nhtt
 ps://jewishtoronto.com/calendar/beyond-paranoia-movie-screening-1493937430
 \n\nThe Canadian Institute for Jewish Research\, CIJR\, presents "Beyond P
 aranoia: The War Against the Jews"\, an eye-opening\, fearless film about 
 the emergence in our time of a new and virulent anti Semitism.\n\n"Politic
 ally correct" intellectuals demonize Israel even as it struggles with the 
 relentless hostilities of Hamas \, Hezbollah\, Iran and Palestinian terror
 ists. European and American media are some of the worst offenders\, regula
 rly "inverting" their headlines to suggest that the murderers wh...
DTSTART;TZID=America/Toronto:20170510T193000
DTEND;TZID=America/Toronto:20170510T213000
END:VEVENT
END:VCALENDAR
