BEGIN:VCALENDAR
PRODID:-//eluceo/ical//2.0/EN
VERSION:2.0
CALSCALE:GREGORIAN
BEGIN:VEVENT
UID:c4f0ff04d39dfd39ddb892806052f92a
DTSTAMP:20260424T132425Z
SUMMARY:BEYOND DUTY -  Exhibit\, Reception & Persona Non-Grata screening
DESCRIPTION:UJA Federation of Greater Toronto\nJewish Toronto Calendar\nhtt
 ps://jewishtoronto.com/calendar/beyond-duty----exhibit-reception--persona-
 non-grata-screening-1520458898\n\nAward-winning feature film Persona Non-G
 rata (2015)\, based on the true story of Chiune Sugihara\, a Japanese dipl
 omat who\, against his country's orders\, issued visas to Jewish refugees 
 in Lithuania during WW2 and saved over 6\,000 Jews by granting them transi
 t visas to JapanOpening reception and Film Screening Remarks by Israeli Co
 nsul General\, Galit Baram\, and Japanese Consul General\, Takako ItoVenue
 : Congregation Darchei Noam\, 864 Sheppard Avenue West.Free admission\; re
 gistration at: https://...
DTSTART;TZID=America/Toronto:20180314T181500
DTEND;TZID=America/Toronto:20180314T213000
END:VEVENT
END:VCALENDAR
