BEGIN:VCALENDAR
PRODID:-//eluceo/ical//2.0/EN
VERSION:2.0
CALSCALE:GREGORIAN
BEGIN:VEVENT
UID:840060bf15f455ad43b7acb4cb1e246a
DTSTAMP:20260421T184534Z
SUMMARY:Between Stages Play Reading
DESCRIPTION:UJA Federation of Greater Toronto\nJewish Toronto Calendar\nhtt
 ps://jewishtoronto.com/calendar/between-stages-play-reading\n\n"Tough Jews
 " by Michael Ross Albert\, directed by David Ferry. Kensington Market\, th
 e crime-filled Jewish ghetto of Prohibition-era Toronto. A family of Jewis
 h bootleggers fights to stay together and stumbles into the Crime of the C
 entury. Featuring Claire Armstrong\, Ben Clost\, Natasha Greenblatt\, Luke
  Humphrey\, Tanja Jacobs\, Adam Pettle and Jordan Pettle. $10 drop-in admi
 ssion at the door.
DTSTART;TZID=America/Toronto:20140301T190000
DTEND;TZID=America/Toronto:20140301T220000
END:VEVENT
END:VCALENDAR
