BEGIN:VCALENDAR
PRODID:-//eluceo/ical//2.0/EN
VERSION:2.0
CALSCALE:GREGORIAN
BEGIN:VEVENT
UID:a6e47a8b726586dfe39e0b0e84aae881
DTSTAMP:20260421T234214Z
SUMMARY:BethDavidSingles: BoomersEdition (50-69) Singalong 2 with Covid
DESCRIPTION:UJA Federation of Greater Toronto\nJewish Toronto Calendar\nhtt
 ps://jewishtoronto.com/calendar/bethdavidsingles-boomersedition-50-69-sing
 along-2-with-covid-1591158359\n\njoin us next Sunday evening (June 7\, 202
 0 at 7 pm) Singalong 2 - with COVID \;-)\n\nAs we&#039\;ve learned and sha
 red so much together\, during Covid-19\, we&#039\;re ready for a singalong
 !\nLast call\, we had such a ball\, crooning together to our fav songs. Th
 e call was almost 1.5 hours!\nAnd so\, by popular request\, we&#039\;re do
 ing it again!\n\nSend your request for your 1-click Zoom call link to Beth
 DavidSinglesBoomerEdition@gmail.com\n\nConnect online\, or call in via a l
 ocal phone number. Nice!\nAnd yes\, do...
DTSTART;TZID=America/Toronto:20200607T190000
DTEND;TZID=America/Toronto:20200607T200000
END:VEVENT
END:VCALENDAR
