BEGIN:VCALENDAR
PRODID:-//eluceo/ical//2.0/EN
VERSION:2.0
CALSCALE:GREGORIAN
BEGIN:VEVENT
UID:b5a059518c1466efc3637c19d55a6a93
DTSTAMP:20260421T170242Z
SUMMARY:BethDavidSingles: BoomersEdition (50-69) Our B'nai Mitzvah call #13
DESCRIPTION:UJA Federation of Greater Toronto\nJewish Toronto Calendar\nhtt
 ps://jewishtoronto.com/calendar/bethdavidsingles-boomersedition-50-69-our-
 bnai-mitzvah-call-13-1591592056\n\nJoin us Sunday evening (June 14\, 2020 
 at 7pm)\nThis is Zoom Call #13 - Our B'nai Mitzvah!\n\nLet's plan a Simcha
  - Please bring something to share with us to celebrate. We'll raise a gla
 ss to kvell with each other. L'chaim!!!\n\n\nRequest your 1-click call lin
 k:  email: BethDavidSinglesBoomerEdition@gmail.com\n(be sure to mention yo
 u saw us here\, on the UJA Federation calendar. Todah))\n\nConnect online\
 , or call in via a local phone number.  Nice!\nAnd yes\, do continue your 
 private side...
DTSTART;TZID=America/Toronto:20200614T190000
DTEND;TZID=America/Toronto:20200614T200000
END:VEVENT
END:VCALENDAR
