BEGIN:VCALENDAR
PRODID:-//eluceo/ical//2.0/EN
VERSION:2.0
CALSCALE:GREGORIAN
BEGIN:VEVENT
UID:e5154e09b5d37d11b202c7b334f4d6ad
DTSTAMP:20260421T025257Z
SUMMARY:BethDavidSingles: BoomersEdition (50-69): Open Mic+Potpourri
DESCRIPTION:UJA Federation of Greater Toronto\nJewish Toronto Calendar\nhtt
 ps://jewishtoronto.com/calendar/bethdavidsingles-boomersedition-50-69-open
 -micpotpourri-1589944502\n\nJoin us this Sunday evening (May 24\, 2020 at 
 7pm) for: Open Mic/Potpourri\n\nBy popular request: as this is our 10th ZO
 OM call\, and we've come to learn and share with each other... Let's keep 
 the topics wide open this time \;-)\n\nRequest your 1-click call link at w
 ww.bit.ly/boomerssingles \nOr email: BethDavidSinglesBoomerEdition@gmail.c
 om\n \nConnect online\, or call in via a local phone number.  Nice!\nAnd y
 es\, do continue your private side chats with people on the call\, that yo
 u'd like to...
DTSTART;TZID=America/Toronto:20200524T190000
DTEND;TZID=America/Toronto:20200524T200000
END:VEVENT
END:VCALENDAR
