BEGIN:VCALENDAR
PRODID:-//eluceo/ical//2.0/EN
VERSION:2.0
CALSCALE:GREGORIAN
BEGIN:VEVENT
UID:cb562a9d7a619648773243763cfe0170
DTSTAMP:20260422T105158Z
SUMMARY:Beth Tzedec Women and the Shoah- With Professor Sara- Horowitz
DESCRIPTION:UJA Federation of Greater Toronto\nJewish Toronto Calendar\nhtt
 ps://jewishtoronto.com/calendar/beth-tzedec-women-and-the-shoah-with-profe
 ssor-sara-horowitz-may-26\n\n"Unspeakable Loss: Childbirth and Death durin
 g the Shoah"
DTSTART;TZID=America/Toronto:20140526T191500
DTEND;TZID=America/Toronto:20140526T220000
END:VEVENT
END:VCALENDAR
