BEGIN:VCALENDAR
PRODID:-//eluceo/ical//2.0/EN
VERSION:2.0
CALSCALE:GREGORIAN
BEGIN:VEVENT
UID:c4c7c90d38b724dbe49b86d09bbcd8c5
DTSTAMP:20260422T132244Z
SUMMARY:Beth Tzedec Three Part Series on Better Brain Health
DESCRIPTION:UJA Federation of Greater Toronto\nJewish Toronto Calendar\nhtt
 ps://jewishtoronto.com/calendar/beth-tzedec-three-part-series-on-better-br
 ain-health\n\nBrain Food: Are you Really What you Eat? The Diet and Brain 
 Connection: This talk uncovers the different ways food can affect your bra
 in and the impact your dietary choices may be having on the way your brain
  ages.Presenter: Dr Carol Greenwood\, PhD\, senior scientist Baycrest Rotm
 an Research Institute. Sponsored by Beth Tzedec Congregation
DTSTART;TZID=America/Toronto:20140325T133000
DTEND;TZID=America/Toronto:20140325T150000
END:VEVENT
END:VCALENDAR
