BEGIN:VCALENDAR
PRODID:-//eluceo/ical//2.0/EN
VERSION:2.0
CALSCALE:GREGORIAN
BEGIN:VEVENT
UID:5504d32431ecc0747f72f4392837d533
DTSTAMP:20260424T022601Z
SUMMARY:Beth Tzedec Shabbat Morning Fun
DESCRIPTION:UJA Federation of Greater Toronto\nJewish Toronto Calendar\nhtt
 ps://jewishtoronto.com/calendar/beth-tzedec-shabbat-morsddning-fun\n\nJoin
  us for a children's Shabbat experience that builds Jewish knowledge and c
 ommunity. \n\n\n\n9:30 a.m. — Free Shabbat play\n\n\n10:30 a.m. — Age
  appropriate Tefillah/prayer experiences\, participation permitting. With
  special guests like our shinshinim to tell us about life in Israel\, an
 d other guests as well.\n\n\n11:30 a.m. — Blessings and snacks\n\n\n\nCh
 ildren ages 3 and younger require adult accompaniment\, those ages 4 and u
 p can be dropped off.
DTSTART;TZID=America/Toronto:20240713T093000
DTEND;TZID=America/Toronto:20240713T120000
END:VEVENT
END:VCALENDAR
