BEGIN:VCALENDAR
PRODID:-//eluceo/ical//2.0/EN
VERSION:2.0
CALSCALE:GREGORIAN
BEGIN:VEVENT
UID:08885d5a4ec9aeb5ccef1aaad50c17cf
DTSTAMP:20260423T074138Z
SUMMARY:Beth Tzedec Sensory Room Pop-Up
DESCRIPTION:UJA Federation of Greater Toronto\nJewish Toronto Calendar\nhtt
 ps://jewishtoronto.com/calendar/beth-tzedec-sensory-room-pop-up-1736801944
 \n\nBeth Tzedec is pleased to announce the continuation of our Sensory Roo
 m pop-up\, a space for those aged 4+ (up to and including adults) with neu
 ro-diverse or sensory processing considerations.\n\nOur Sensory Room offer
 s controlled sensory experiences to create a soothing and engaging (fragra
 nce- free) environment. It will provide a safe space for individuals to en
 gage with various stimuli\, helping to  manage sensory overload\, increase
  the sense of calmness\, and decrease anxiety.\n\nThose...
DTSTART;TZID=America/Toronto:20250201T100000
DTEND;TZID=America/Toronto:20250201T123000
END:VEVENT
END:VCALENDAR
