BEGIN:VCALENDAR
PRODID:-//eluceo/ical//2.0/EN
VERSION:2.0
CALSCALE:GREGORIAN
BEGIN:VEVENT
UID:09109fa5ff06526ee2741573bcd7e172
DTSTAMP:20260421T030754Z
SUMMARY:Beth Tzedec presents - One Little Goat\, 30 Different Melodies
DESCRIPTION:UJA Federation of Greater Toronto\nJewish Toronto Calendar\nhtt
 ps://jewishtoronto.com/calendar/beth-tzedec-presents---one-little-goat-30-
 different-melodies-1484165385\n\nOne Little Goat\, 30 Different Melodies w
 ith Cantor Sidney EzerCantor Ezer leads a musical workshop highlighting th
 e Seder song Had Gadya and the many musical versions sung by Jews around t
 he world. Tune in and tune up for your Seder.Everyone welcome. No charge.
DTSTART;TZID=America/Toronto:20170327T193000
DTEND;TZID=America/Toronto:20170327T210000
END:VEVENT
END:VCALENDAR
