BEGIN:VCALENDAR
PRODID:-//eluceo/ical//2.0/EN
VERSION:2.0
CALSCALE:GREGORIAN
BEGIN:VEVENT
UID:33f16fde4b780cd550f58e99e197697a
DTSTAMP:20260421T232640Z
SUMMARY:Beth Tzedec Men's Club Fourth Annual Golf Classic
DESCRIPTION:UJA Federation of Greater Toronto\nJewish Toronto Calendar\nhtt
 ps://jewishtoronto.com/calendar/beth-tzedec-mens-club-fourth-annual-golf-c
 lassic-1452207867\n\nMark your calendars for the Fourth Annual Beth Tzedec
  Men's Club Golf Classic and look forward to an afternoon on the greens wi
 th good food\, great friends ... and a few new golf stories!
DTSTART;TZID=America/Toronto:20160526T120000
DTEND;TZID=America/Toronto:20160526T190000
END:VEVENT
END:VCALENDAR
