BEGIN:VCALENDAR
PRODID:-//eluceo/ical//2.0/EN
VERSION:2.0
CALSCALE:GREGORIAN
BEGIN:VEVENT
UID:0eb26cd766ccfe8e48b5737c591cc63e
DTSTAMP:20260422T131903Z
SUMMARY:Beth Tzedec Jews in Film With Shlomo Schwartzberg
DESCRIPTION:UJA Federation of Greater Toronto\nJewish Toronto Calendar\nhtt
 ps://jewishtoronto.com/calendar/beth-tzedec-jews-in-film-with-shlomo-schwa
 rtzberg-apr-9\n\nPart 4 of the series of the four lectures. International 
 Jewish Cinema. Through film clips and a discussion we will examine how Jew
 ish issues\, societies and conflicts are portrayed in films from Europe\, 
 South America and other parts of the world. Co -Sponsored by Canterbury Pl
 ace Retirement Residence
DTSTART;TZID=America/Toronto:20140409T133000
DTEND;TZID=America/Toronto:20140409T153000
END:VEVENT
END:VCALENDAR
