BEGIN:VCALENDAR
PRODID:-//eluceo/ical//2.0/EN
VERSION:2.0
CALSCALE:GREGORIAN
BEGIN:VEVENT
UID:4d1a45808cafd71f0bfbe11e64c8f41c
DTSTAMP:20260425T190619Z
SUMMARY:Beth Tzedec Games Afternoons
DESCRIPTION:UJA Federation of Greater Toronto\nJewish Toronto Calendar\nhtt
 ps://jewishtoronto.com/calendar/beth-tzedec-games-afternoons-1516221674\n\
 nJoin us at Beth Tzedec every Thursday for a friendly\, social afternoon o
 f Mah-Jong\, Bridge and Canasta. For beginners and seasoned veterans alike
 . Everyone welcome.\n\nSuggested donation of $2 (proceeds support hesed in
 itiatives)
DTSTART;TZID=America/Toronto:20180125T130000
DTEND;TZID=America/Toronto:20180125T160000
END:VEVENT
END:VCALENDAR
