BEGIN:VCALENDAR
PRODID:-//eluceo/ical//2.0/EN
VERSION:2.0
CALSCALE:GREGORIAN
BEGIN:VEVENT
UID:1bc30d363bfcecda7a96f19abf98c702
DTSTAMP:20260421T025840Z
SUMMARY:Beth Tzedec Family Shabbat Experience
DESCRIPTION:UJA Federation of Greater Toronto\nJewish Toronto Calendar\nhtt
 ps://jewishtoronto.com/calendar/beth-tzedec-family-shabbat-experience-1643
 644013\n\nJoin us as we resume Shabbat morning programming for families at
  Beth Tzedec. This interactive program will include prayers\, singing\, le
 arning and community-building. Vaccine verification is required for all va
 ccine-eligible participants.
DTSTART;TZID=America/Toronto:20220226T103000
DTEND;TZID=America/Toronto:20220226T120000
END:VEVENT
END:VCALENDAR
