BEGIN:VCALENDAR
PRODID:-//eluceo/ical//2.0/EN
VERSION:2.0
CALSCALE:GREGORIAN
BEGIN:VEVENT
UID:fee87a54b6001faaa765e63682365dc8
DTSTAMP:20260422T202403Z
SUMMARY:Beth Tzedec Congregation - Selihot
DESCRIPTION:UJA Federation of Greater Toronto\nJewish Toronto Calendar\nhtt
 ps://jewishtoronto.com/calendar/beth-tzedec-congregation-selihot\n\nSeliho
 t at Beth Tzedec Congregation\n\nJoin us Saturday at 9:15 pm for an uplift
 ing Selihot evening beginning with the screening of the Canadian original 
 screenplay award-winning film REMEMBER. Directed by Atom Egoyan\, produced
  by Robert Lantos and starring Christopher Plummer\, this film tells the t
 ale of an elderly man with dementia who\, with the aid of a fellow Auschwi
 tz survivor and a hand-written letter\, goes in search of the person respo
 nsible for the death of his family.\n\nFollowing th...
DTSTART;TZID=America/Toronto:20160924T211500
DTEND;TZID=America/Toronto:20160924T235500
END:VEVENT
END:VCALENDAR
