BEGIN:VCALENDAR
PRODID:-//eluceo/ical//2.0/EN
VERSION:2.0
CALSCALE:GREGORIAN
BEGIN:VEVENT
UID:b3cd8b5a10fdb9a66ffb406e80d7645f
DTSTAMP:20260425T213650Z
SUMMARY:Beth Tzedec Congregation: Notable Speakers Series
DESCRIPTION:UJA Federation of Greater Toronto\nJewish Toronto Calendar\nhtt
 ps://jewishtoronto.com/calendar/beth-tzedec-congregation-notable-speakers-
 series-1503952934\n\nFrom Robots to Thinking Machines\; How a Brave New Wo
 rld of Artificial Intelligence Will Change Everything.\nAward- winning jou
 rnalist\, author an broadcaster \, Dan Falk will discuss the coming age of
  thinking machines.\nLunch 1\;00 pm Lecture 1\;30 pm.
DTSTART;TZID=America/Toronto:20171120T130000
DTEND;TZID=America/Toronto:20171120T150000
END:VEVENT
END:VCALENDAR
