BEGIN:VCALENDAR
PRODID:-//eluceo/ical//2.0/EN
VERSION:2.0
CALSCALE:GREGORIAN
BEGIN:VEVENT
UID:7e7edb070d2ff106832cb828b3064521
DTSTAMP:20260425T025445Z
SUMMARY:Beth Tzedec Congregation - It’s The British Invasion … To Persi
 a
DESCRIPTION:UJA Federation of Greater Toronto\nJewish Toronto Calendar\nhtt
 ps://jewishtoronto.com/calendar/beth-tzedec-congregation-its-the-british-i
 nvasion-to-persia\n\nIT’S THE BRITISH INVASION … TO PERSIA!\n\nA Purim
  Beatles Sing-Along featuring Ontario's premier Beatles tribute band\, Th
 e Caverners\, live onstage hosted by Beth Tzedec’s British import\, Cant
 or Simon Spiro.\n\nAll ages welcome to this Magical Mystery Tour through t
 he Megillah. Join us for a traditional English supper and a sing-along wit
 h Canada's Fab Four\, The Caverners. With lyrics on a big screen and the t
 hrill of a live band\, sing along to your favourite Beatles songs to tell 
 the s...
DTSTART;TZID=America/Toronto:20160320T190000
DTEND;TZID=America/Toronto:20160320T220000
END:VEVENT
END:VCALENDAR
