BEGIN:VCALENDAR
PRODID:-//eluceo/ical//2.0/EN
VERSION:2.0
CALSCALE:GREGORIAN
BEGIN:VEVENT
UID:ad36237515f0779b0e5e7c761ce52feb
DTSTAMP:20260423T232621Z
SUMMARY:Beth Tzedec Congregation: Day Trips in Jewish History
DESCRIPTION:UJA Federation of Greater Toronto\nJewish Toronto Calendar\nhtt
 ps://jewishtoronto.com/calendar/beth-tzedec-congregation-day-trips-in-jewi
 sh-history-1503950776\n\nEducator Hana Werner discusses Nathan- the prophe
 t who rebukes and scolds the king of Israel. "Thou shall not covet." Reall
 y?
DTSTART;TZID=America/Toronto:20171108T133000
DTEND;TZID=America/Toronto:20171108T153000
END:VEVENT
END:VCALENDAR
