BEGIN:VCALENDAR
PRODID:-//eluceo/ical//2.0/EN
VERSION:2.0
CALSCALE:GREGORIAN
BEGIN:VEVENT
UID:d2a5bf8b7aef6f695bc8b50c0ea14df8
DTSTAMP:20260421T092815Z
SUMMARY:Beth Tzedec Congregation Book and Film Club Review
DESCRIPTION:UJA Federation of Greater Toronto\nJewish Toronto Calendar\nhtt
 ps://jewishtoronto.com/calendar/beth-tzedec-congregation-book-and-film-clu
 b-review\n\n The Afterlife of  Stars\, reviewer author Joe Kertes.  \n\
 nLunch at 1::00 pm | Review at 1:30pm.\n\nSponsored by Hazelton Place Reti
 rement Residence. 
DTSTART;TZID=America/Toronto:20150330T130000
DTEND;TZID=America/Toronto:20150330T140000
END:VEVENT
END:VCALENDAR
