BEGIN:VCALENDAR
PRODID:-//eluceo/ical//2.0/EN
VERSION:2.0
CALSCALE:GREGORIAN
BEGIN:VEVENT
UID:b6910cd0ee134313a4290f8378968970
DTSTAMP:20260421T142257Z
SUMMARY:Beth Tzedec Congregation: Book and Film Club
DESCRIPTION:UJA Federation of Greater Toronto\nJewish Toronto Calendar\nhtt
 ps://jewishtoronto.com/calendar/beth-tzedec-congregation-book-and-film-clu
 b-1503950303\n\nLunch 1 pm\, Lecture 1:30 pm
DTSTART;TZID=America/Toronto:20171106T130000
DTEND;TZID=America/Toronto:20171106T150000
END:VEVENT
END:VCALENDAR
