BEGIN:VCALENDAR
PRODID:-//eluceo/ical//2.0/EN
VERSION:2.0
CALSCALE:GREGORIAN
BEGIN:VEVENT
UID:5ead5c91323653e2568eab9c3bd9c540
DTSTAMP:20260421T043652Z
SUMMARY:Beth Tzedec congregation Book & Film Club: The Noise of Time
DESCRIPTION:UJA Federation of Greater Toronto\nJewish Toronto Calendar\nhtt
 ps://jewishtoronto.com/calendar/beth-tzedec-congregation-book--film-club-t
 he-noise-of-time-1502312780\n\nLunch 1:00 pm  Review 1:30 pm
DTSTART;TZID=America/Toronto:20171016T130000
DTEND;TZID=America/Toronto:20171016T150000
END:VEVENT
END:VCALENDAR
